BEGIN:VCALENDAR
VERSION:2.0
PRODID:-//New Prospect Baptist Church - ECPv6.15.20//NONSGML v1.0//EN
CALSCALE:GREGORIAN
METHOD:PUBLISH
X-WR-CALNAME:New Prospect Baptist Church
X-ORIGINAL-URL:https://newprospectbaptist.org
X-WR-CALDESC:Events for New Prospect Baptist Church
REFRESH-INTERVAL;VALUE=DURATION:PT1H
X-Robots-Tag:noindex
X-PUBLISHED-TTL:PT1H
BEGIN:VTIMEZONE
TZID:UTC
BEGIN:STANDARD
TZOFFSETFROM:+0000
TZOFFSETTO:+0000
TZNAME:UTC
DTSTART:20220101T000000
END:STANDARD
END:VTIMEZONE
BEGIN:VTIMEZONE
TZID:America/New_York
BEGIN:DAYLIGHT
TZOFFSETFROM:-0500
TZOFFSETTO:-0400
TZNAME:EDT
DTSTART:20230312T070000
END:DAYLIGHT
BEGIN:STANDARD
TZOFFSETFROM:-0400
TZOFFSETTO:-0500
TZNAME:EST
DTSTART:20231105T060000
END:STANDARD
BEGIN:DAYLIGHT
TZOFFSETFROM:-0500
TZOFFSETTO:-0400
TZNAME:EDT
DTSTART:20240310T070000
END:DAYLIGHT
BEGIN:STANDARD
TZOFFSETFROM:-0400
TZOFFSETTO:-0500
TZNAME:EST
DTSTART:20241103T060000
END:STANDARD
BEGIN:DAYLIGHT
TZOFFSETFROM:-0500
TZOFFSETTO:-0400
TZNAME:EDT
DTSTART:20250309T070000
END:DAYLIGHT
BEGIN:STANDARD
TZOFFSETFROM:-0400
TZOFFSETTO:-0500
TZNAME:EST
DTSTART:20251102T060000
END:STANDARD
END:VTIMEZONE
BEGIN:VEVENT
DTSTART;TZID=UTC:20240607T170000
DTEND;TZID=UTC:20240607T200000
DTSTAMP:20260423T222424
CREATED:20240512T142822Z
LAST-MODIFIED:20240512T142822Z
UID:32989-1717779600-1717790400@newprospectbaptist.org
SUMMARY:34th Pastoral Anniversary Fish Fry
DESCRIPTION:You’re invited to our annual Fish Fry on Friday\, June 7th\, 5 p.m. to 8 p.m. Join us as we celebrate Pastor Damon Lynch\, III’s 34th Pastoral Anniversary with good fun\, music and fellowship. It’s free!
URL:https://newprospectbaptist.org/event/34th-pastoral-anniversary-fish-fry/
LOCATION:New Prospect Baptist Church\, 1580 Summit Road\, Cincinnati\, OH\, 45237\, United States
CATEGORIES:Pastoral Anniversary
END:VEVENT
BEGIN:VEVENT
DTSTART;TZID=UTC:20240524T183000
DTEND;TZID=UTC:20240524T203000
DTSTAMP:20260423T222424
CREATED:20230428T004350Z
LAST-MODIFIED:20240517T154620Z
UID:32266-1716575400-1716582600@newprospectbaptist.org
SUMMARY:Youth Bowling Night
DESCRIPTION:New Prospect’s Operation Wakanda Youth Ministry is holding Youth Bowling Night on Friday\, May 24th\, 6:30 p.m. – 8:30 p.m. at Stone Lanes (3746 Montgomery Road\, Norwood\, OH 45212). \nFree registration for bowling night is full.  Youth and Parents can still register in-person at church for a fee of $14\, which includes 2 hours of bowling and shoes.  Call the church office at (513) 721-2355 for more information.
URL:https://newprospectbaptist.org/event/youthbowlingnight2024/
LOCATION:Stone Lanes\, 3746 Montgomery Road\, Norwood\, OH\, 45212
CATEGORIES:Youth
END:VEVENT
BEGIN:VEVENT
DTSTART;TZID=UTC:20240505T160000
DTEND;TZID=UTC:20240505T180000
DTSTAMP:20260423T222424
CREATED:20240430T013521Z
LAST-MODIFIED:20240430T013521Z
UID:32952-1714924800-1714932000@newprospectbaptist.org
SUMMARY:Greater Faith Ministries Church
DESCRIPTION:Pastor Damon Lynch\, III will be preaching at Greater Faith Ministries Church on Sunday\, May 5th at 4 p.m. Join us as we travel to 6834 Parrish Avenue\, Cincinnati\, OH 45239 for this interchurch fellowship.
URL:https://newprospectbaptist.org/event/greater-faith-ministries-church/
LOCATION:Greater Faith Ministries Church\, 6834 Parrish Avenue\, Cincinnati\, OH\, 45239
CATEGORIES:Interchurch Fellowship
END:VEVENT
BEGIN:VEVENT
DTSTART;TZID=UTC:20240505T133000
DTEND;TZID=UTC:20240505T163000
DTSTAMP:20260423T222424
CREATED:20240430T012105Z
LAST-MODIFIED:20240430T012105Z
UID:32947-1714915800-1714926600@newprospectbaptist.org
SUMMARY:Great Parks: Woodland Mound
DESCRIPTION:Great Parks of Hamilton County Nature Center offers a free trip to Woodland Mound on Sunday\, May 5th\, 1:30 p.m. – 4:30 p.m. Transportation will be provided from the church (1580 Summit Road\, Cincinnati\, OH 45237).
URL:https://newprospectbaptist.org/event/great-parks-woodland-mound/
LOCATION:OH
CATEGORIES:Great Parks
END:VEVENT
BEGIN:VEVENT
DTSTART;TZID=UTC:20240504T110000
DTEND;TZID=UTC:20240504T140000
DTSTAMP:20260423T222424
CREATED:20230411T000330Z
LAST-MODIFIED:20240424T032246Z
UID:32241-1714820400-1714831200@newprospectbaptist.org
SUMMARY:First Ladies for Health Mental Health Summit
DESCRIPTION:First Ladies for Health presents the “Let’s Chat – Ask me about my Mental Health” Mental Health Summit on Saturday\, May 4\, 2024 from 11 a.m. to 2 p.m. here at New Prospect. Doors open at 10:30 a.m. and lunch will be provided. Sessions will be held for adults and kids 12 and older. To register\, click here or scan the QR code in the flyer below.
URL:https://newprospectbaptist.org/event/first-ladies-for-health-mental-health-summit/
LOCATION:New Prospect Baptist Church\, 1580 Summit Road\, Cincinnati\, OH\, 45237\, United States
CATEGORIES:Mental Health & Wellness
ORGANIZER;CN="Cincinnati First Ladies for Health":MAILTO:cincyfirstladies@gmail.com
END:VEVENT
BEGIN:VEVENT
DTSTART;TZID=UTC:20240425T180000
DTEND;TZID=UTC:20240425T200000
DTSTAMP:20260423T222424
CREATED:20240424T015703Z
LAST-MODIFIED:20240424T015703Z
UID:32933-1714068000-1714075200@newprospectbaptist.org
SUMMARY:Support Group Facilitator Training
DESCRIPTION:Faith-based support group facilitator training will be held at 1580 Summit Road on Thursday\, April 25th\, 6 – 8 p.m. If you’re interested\, call the church office at 513-721-2355
URL:https://newprospectbaptist.org/event/support-group-facilitator-training/
LOCATION:New Prospect Baptist Church\, 1580 Summit Road\, Cincinnati\, OH\, 45237\, United States
END:VEVENT
BEGIN:VEVENT
DTSTART;TZID=UTC:20240413T110000
DTEND;TZID=UTC:20240413T130000
DTSTAMP:20260423T222424
CREATED:20240324T234301Z
LAST-MODIFIED:20240324T234301Z
UID:32886-1713006000-1713013200@newprospectbaptist.org
SUMMARY:Empowering Healthy Girls to Women Workshop
DESCRIPTION:Empowering Healthy Girls to Women Workshop will be held at New Prospect (1580 Summit Road) on Saturday\, April 13th\, 11 a.m. – 1 p.m. This event is for girls\, ages 11-14. To register for this event by Monday\, April 8th\, click here.
URL:https://newprospectbaptist.org/event/empowering-healthy-girls-to-women-workshop/
LOCATION:New Prospect Baptist Church\, 1580 Summit Road\, Cincinnati\, OH\, 45237\, United States
CATEGORIES:Women
END:VEVENT
BEGIN:VEVENT
DTSTART;TZID=UTC:20240406T093000
DTEND;TZID=UTC:20240406T113000
DTSTAMP:20260423T222424
CREATED:20240324T232623Z
LAST-MODIFIED:20240324T232748Z
UID:32882-1712395800-1712403000@newprospectbaptist.org
SUMMARY:Small Group Facilitator Training
DESCRIPTION:Would you considering being a small group facilitator or host? You’re invited to attend the small group facilitator training on Saturday\, April 6th at 9:30 a.m. To learn more\, call the church office at 513-721-2355.
URL:https://newprospectbaptist.org/event/smallgroupfacilitatorshosts/
LOCATION:New Prospect Baptist Church\, 1580 Summit Road\, Cincinnati\, OH\, 45237\, United States
CATEGORIES:Small Groups
END:VEVENT
BEGIN:VEVENT
DTSTART;TZID=UTC:20240403T100000
DTEND;TZID=UTC:20240403T150000
DTSTAMP:20260423T222424
CREATED:20240326T034510Z
LAST-MODIFIED:20240326T034633Z
UID:32892-1712138400-1712156400@newprospectbaptist.org
SUMMARY:The 513Relief Bus
DESCRIPTION:The 513Relief Bus will visit New Prospect Baptist Church on Wednesday\, April 3rd\, 10 a.m. to 3 p.m. The 513Relief Bus provides health screenings\, social services and economic resources to the community. Click here to visit the 513Relief Bus web site and view its tour schedule.
URL:https://newprospectbaptist.org/event/the513reliefbus/
LOCATION:New Prospect Baptist Church\, 1580 Summit Road\, Cincinnati\, OH\, 45237\, United States
CATEGORIES:Community Relations
END:VEVENT
BEGIN:VEVENT
DTSTART;TZID=UTC:20240323T130000
DTEND;TZID=UTC:20240323T170000
DTSTAMP:20260423T222424
CREATED:20240223T033006Z
LAST-MODIFIED:20240223T033006Z
UID:32831-1711198800-1711213200@newprospectbaptist.org
SUMMARY:Real Talk 2024
DESCRIPTION:New Prospect’s Operation Wakanda Youth Ministry will host Real Talk\, an event centered for youth between the ages of 7 and 17. This event is scheduled on Saturday\, March 23rd\, 1 p.m. – 5 p.m. and will include a variety of activities. This is free and open to the public. \n[gravityforms id=112 title=false description=false /]
URL:https://newprospectbaptist.org/event/realtalk2024/
LOCATION:New Prospect Baptist Church\, 1580 Summit Road\, Cincinnati\, OH\, 45237\, United States
END:VEVENT
BEGIN:VEVENT
DTSTART;TZID=America/New_York:20240316T130000
DTEND;TZID=America/New_York:20240316T150000
DTSTAMP:20260423T222424
CREATED:20240211T033710Z
LAST-MODIFIED:20240211T033710Z
UID:32817-1710594000-1710601200@newprospectbaptist.org
SUMMARY:Black Economic Empowerment Workshop
DESCRIPTION:Join us on March 16th for Black Economic Empowerment Workshop with Dr. Boyce Watkins!  Learn about increasing your household income and building generational wealth!  \n\nRegister Today for this free event. \n\n[gravityforms id=”111″ title=”true” /]
URL:https://newprospectbaptist.org/event/black-economic-empowerment-workshop/
LOCATION:OH
ATTACH;FMTTYPE=image/jpeg:https://newprospectbaptist.org/wp-content/uploads/2024/02/Wealth-Building-Workshop-Pastor-Wilson-1-2-scaled.jpg
END:VEVENT
BEGIN:VEVENT
DTSTART;TZID=America/New_York:20240228T190000
DTEND;TZID=America/New_York:20240228T200000
DTSTAMP:20260423T222424
CREATED:20240228T212320Z
LAST-MODIFIED:20240228T212320Z
UID:32845-1709146800-1709150400@newprospectbaptist.org
SUMMARY:Powerful Questions Final Class Assessment
DESCRIPTION:Powerful Questions\n\nStudy Assessment\n\nWe pray that our time together to study God’s voice through questions has provided depth and enlightenment for your spiritual journey.  Thank you for studying with New Prospect and Royce Sutton.  Finally\, we would like for you to complete the electronic form of questions below (or click this link https://bit.ly/PowerfulQuestionsAssessment to download a hard copy of the assessment questions) as we seek to know as much about your Powerful Questions experience and how we can improve each ministry experience offered at New Prospect Baptist Church.  \n\n[gravityforms id=”113″ title=”true” /]
URL:https://newprospectbaptist.org/event/powerful-questions-final-class-assessment/
LOCATION:OH
CATEGORIES:Bible Study
END:VEVENT
BEGIN:VEVENT
DTSTART;TZID=UTC:20240226T110000
DTEND;TZID=UTC:20240226T130000
DTSTAMP:20260423T222424
CREATED:20240219T032301Z
LAST-MODIFIED:20240219T033514Z
UID:32834-1708945200-1708952400@newprospectbaptist.org
SUMMARY:Black History Month Program
DESCRIPTION:Seniors (age 55 and up)\, are invited to the Delores H. Bland Senior Day Center on Monday\, February 26th at 11 a.m. for a Black History Month Program. This event will include featured speaker\, Artist Adoria Maxberry.
URL:https://newprospectbaptist.org/event/bhmseniors2024/
LOCATION:Delores H. Bland Senior Day Center\, 1580 Summit Road\, Cincinnati\, OH\, 45237\, United States
END:VEVENT
BEGIN:VEVENT
DTSTART;TZID=America/New_York:20240224T110000
DTEND;TZID=America/New_York:20240224T140000
DTSTAMP:20260423T222424
CREATED:20240114T001610Z
LAST-MODIFIED:20240114T001610Z
UID:32754-1708772400-1708783200@newprospectbaptist.org
SUMMARY:WOW Enrichment Cafe
DESCRIPTION:The WOW Enrichment Cafe is designed to provide support for the women of our community and the women in our congregation. Enrichment Cafes do not ignore family problems but relegate problems to their proper place in life: Enrichment Cafes are used as vehicles for testing our capacities as families and reaffirming our connection with each other. Enrichment Cafes look at shared principles which can impact many areas of a family’s life\, including:\n\nDaily activities\,\nSpiritually\,\nDisciplinary techniques for children\,\nDivision of chores\,\nEducation\,\nFinances\,\nParenting styles\, and\nRelationships.\n\nRegister today to attend our next Enrichment Cafe on February 24\, 2024 from 11am-2pm\n\n[gravityforms id=”110″ title=”true” /]
URL:https://newprospectbaptist.org/event/wow-enrichment-cafe/
LOCATION:OH
ATTACH;FMTTYPE=image/jpeg:https://newprospectbaptist.org/wp-content/uploads/2024/01/Women-Conference-2-scaled.jpg
ORGANIZER;CN="Women Of Worth":MAILTO:Women@NewProspectBaptist.org
END:VEVENT
BEGIN:VEVENT
DTSTART;TZID=America/New_York:20240210T130000
DTEND;TZID=America/New_York:20240210T170000
DTSTAMP:20260423T222424
CREATED:20240119T195532Z
LAST-MODIFIED:20240124T195753Z
UID:32780-1707570000-1707584400@newprospectbaptist.org
SUMMARY:NPBC's Love In The Afternoon - Masquerade Party
DESCRIPTION:Join us for an enchanting afternoon of romance at New Prospect Baptist Church’s “Love In The Afternoon” Valentine’s Day event! After a four-year hiatus\, we’re thrilled to bring back this cherished celebration\, and this time\, we’re diving into the allure of a “Masquerade Party.”\n\nCouples\, this event is exclusively for you! Rekindle the flame of love as you step into a world of mystery and elegance. The ambiance is set for an unforgettable experience filled with laughter\, joy\, and shared moments. Indulge in a delectable feast specially crafted for the occasion. Our culinary delights are designed to tantalize your taste buds and enhance the pleasure of sharing a meal with your special someone.\n\nLet the rhythm of love guide your steps on the dance floor. Enjoy the beats of romantic melodies that will set the perfect mood for an evening of dancing and connection. Be entertained by captivating performances that add a touch of magic to the atmosphere. From live music to engaging activities\, there’s something for every couple to enjoy.\n\n🎟️ **Get Your Tickets**\nSecure your spot for this enchanting affair by clicking this link https://bit.ly/NPBCLoveInAfternoon2024 or purchasing tickets in-person at the church every Sunday.\n\nCome\, spend a romantic afternoon with us\, and create timeless memories with your special someone. Let love take center stage at “Love In The Afternoon” – where every moment is a celebration of the bond you share. We can’t wait to share this magical day with you!
URL:https://newprospectbaptist.org/event/npbcs-love-in-the-afternoon-masquerade-party/
LOCATION:OH
CATEGORIES:Marriage and Couples Ministry
ATTACH;FMTTYPE=image/jpeg:https://newprospectbaptist.org/wp-content/uploads/2024/01/Love-In-The-Afternoon-2024-for-website-homepage-1-scaled.jpg
END:VEVENT
BEGIN:VEVENT
DTSTART;TZID=America/New_York:20240124T190000
DTEND;TZID=America/New_York:20240124T200000
DTSTAMP:20260423T222424
CREATED:20240114T003616Z
LAST-MODIFIED:20240114T003616Z
UID:32764-1706122800-1706126400@newprospectbaptist.org
SUMMARY:Powerful Questions In The Bible - Hybrid Bible Study
DESCRIPTION:Ever wondered how a simple question can shape destinies? Join us for a transformative journey at 7pm every Wednesday\, Jan. 24th-Feb. 28th. We’ll delve into powerful questions from the Bible\, ones that changed history and transformed lives. Get ready to EXPLORE\, REFLECT\, and GROW.  Are you ready for the journey? Reserve your spot Today! This class will be offered in a hybrid setting\, complete the form below to register for the class. \n\n[gravityforms id=”109″ title=”true” /]
URL:https://newprospectbaptist.org/event/powerful-questions-in-the-bible-hybrid-bible-study/
LOCATION:OH
ATTACH;FMTTYPE=image/jpeg:https://newprospectbaptist.org/wp-content/uploads/2024/01/Powerful-Questions-in-The-Bible-3.jpg
END:VEVENT
BEGIN:VEVENT
DTSTART;TZID=UTC:20240115T100000
DTEND;TZID=UTC:20240115T120000
DTSTAMP:20260423T222424
CREATED:20240109T022753Z
LAST-MODIFIED:20240109T023134Z
UID:32741-1705312800-1705320000@newprospectbaptist.org
SUMMARY:MLK Day Community Clean Up
DESCRIPTION:Help keep Roselawn beautiful! On Dr. Martin Luther King\, Jr. Day (Monday\, January 15th)\, The Great Parks Nature Center at the Summit is hosting a MLK Day community clean up.  Join your neighbors in giving back to the community of Roselawn with a few hours of your day! To register\, click here.
URL:https://newprospectbaptist.org/event/mlk-day-community-clean-up/
LOCATION:The Summit Center\, 1580 Summit Road\, Cincinnati\, OH\, 45237\, United States
CATEGORIES:Great Parks
END:VEVENT
BEGIN:VEVENT
DTSTART;TZID=UTC:20231231T190000
DTEND;TZID=UTC:20240101T000000
DTSTAMP:20260423T222424
CREATED:20231226T162335Z
LAST-MODIFIED:20231226T162335Z
UID:32716-1704049200-1704067200@newprospectbaptist.org
SUMMARY:Watch Night 2024 Services
DESCRIPTION:Bring in the new year with New Prospect! Join us at 1580 Summit Road on Sunday\, December 31st at our 7 p.m. or 10 p.m. services as we praise and worship our Father God for bringing us thru 2023 and blessing us with the journey ahead in 2024! \nNote: There will be one 10 a.m. Sunday morning worship service on New Year’s Eve\, December 31st
URL:https://newprospectbaptist.org/event/watch-night-2024-services/
LOCATION:New Prospect Baptist Church\, 1580 Summit Road\, Cincinnati\, OH\, 45237\, United States
CATEGORIES:Worship Service
END:VEVENT
BEGIN:VEVENT
DTSTART;TZID=UTC:20231229T130000
DTEND;TZID=UTC:20231229T150000
DTSTAMP:20260423T222424
CREATED:20231226T163936Z
LAST-MODIFIED:20231226T163936Z
UID:32719-1703854800-1703862000@newprospectbaptist.org
SUMMARY:Snow Sculptures
DESCRIPTION:Great Parks Nature Center at the Summit (1580 Summit Road) will have a free Snow Sculpture event. This event will be held on Friday\, December 29th at 1 p.m.
URL:https://newprospectbaptist.org/event/snow-sculptures/
LOCATION:The Summit Center\, 1580 Summit Road\, Cincinnati\, OH\, 45237\, United States
CATEGORIES:Great Parks
END:VEVENT
BEGIN:VEVENT
DTSTART;TZID=UTC:20231222T190000
DTEND;TZID=UTC:20231222T210000
DTSTAMP:20260423T222424
CREATED:20231202T200843Z
LAST-MODIFIED:20231202T200843Z
UID:32694-1703271600-1703278800@newprospectbaptist.org
SUMMARY:Christmas on Summit - Magical Movie Night
DESCRIPTION:On Friday\, December 22nd at 7 p.m.\, join us at 1580 Summit Road for a Magical Movie Night. This event is free and open to the public!
URL:https://newprospectbaptist.org/event/christmas-on-summit-magical-movie-night/
LOCATION:New Prospect Baptist Church\, 1580 Summit Road\, Cincinnati\, OH\, 45237\, United States
END:VEVENT
BEGIN:VEVENT
DTSTART;TZID=UTC:20231221T190000
DTEND;TZID=UTC:20231221T210000
DTSTAMP:20260423T222424
CREATED:20231202T200426Z
LAST-MODIFIED:20231202T200426Z
UID:32692-1703185200-1703192400@newprospectbaptist.org
SUMMARY:Christmas on Summit - Family Game Night
DESCRIPTION:On Thursday\, December 21st at 7 p.m.\, join us at 1580 Summit Road for family game night. This event is free and open to the public!
URL:https://newprospectbaptist.org/event/christmas-on-summit-family-game-night/
LOCATION:New Prospect Baptist Church\, 1580 Summit Road\, Cincinnati\, OH\, 45237\, United States
END:VEVENT
BEGIN:VEVENT
DTSTART;TZID=UTC:20231220T190000
DTEND;TZID=UTC:20231220T210000
DTSTAMP:20260423T222424
CREATED:20231202T200033Z
LAST-MODIFIED:20231202T200033Z
UID:32690-1703098800-1703106000@newprospectbaptist.org
SUMMARY:Christmas on Summit - Make It & Take It
DESCRIPTION:On Wednesday\, December 20th at 7 p.m.\, join us at 1580 Summit Road for do-it-yourself wreath making and other Christmas arts and crafts. This event is free and open to the public!
URL:https://newprospectbaptist.org/event/christmas-on-summit-make-it-take-it/
LOCATION:New Prospect Baptist Church\, 1580 Summit Road\, Cincinnati\, OH\, 45237\, United States
END:VEVENT
BEGIN:VEVENT
DTSTART;TZID=UTC:20231219T190000
DTEND;TZID=UTC:20231219T210000
DTSTAMP:20260423T222424
CREATED:20231202T195621Z
LAST-MODIFIED:20231202T195621Z
UID:32687-1703012400-1703019600@newprospectbaptist.org
SUMMARY:Christmas on Summit - Santa and Mrs. Claus
DESCRIPTION:On Tuesday\, December 19th at 7 p.m.\, join us at 1580 Summit Road for pictures with Ebony Santa and storytelling with Mrs. Claus. This event is free and open to the public!
URL:https://newprospectbaptist.org/event/christmas-on-summit-santa-and-mrs-claus/
LOCATION:New Prospect Baptist Church\, 1580 Summit Road\, Cincinnati\, OH\, 45237\, United States
END:VEVENT
BEGIN:VEVENT
DTSTART;TZID=UTC:20231218T190000
DTEND;TZID=UTC:20231218T210000
DTSTAMP:20260423T222424
CREATED:20231202T195001Z
LAST-MODIFIED:20231202T195001Z
UID:32683-1702926000-1702933200@newprospectbaptist.org
SUMMARY:Christmas on Summit - Caroling on Summit
DESCRIPTION:On Monday\, December 18th at 7 p.m.\, join us at 1580 Summit Road for a night of Christmas Caroling. This event is free and open to the public!
URL:https://newprospectbaptist.org/event/christmas-on-summit-caroling-on-summit/
LOCATION:New Prospect Baptist Church\, 1580 Summit Road\, Cincinnati\, OH\, 45237\, United States
END:VEVENT
BEGIN:VEVENT
DTSTART;TZID=UTC:20231115T180000
DTEND;TZID=UTC:20231115T200000
DTSTAMP:20260423T222424
CREATED:20221113T233126Z
LAST-MODIFIED:20231109T025907Z
UID:31978-1700071200-1700078400@newprospectbaptist.org
SUMMARY:Turning Holiday Blues into Spiritual Highs
DESCRIPTION:Let’s Turn our Holiday Blues into Spiritual Highs! Join us on Wednesday\, November 15th\, at 1580 Summit Road for a discussion about dealing with the ups and downs of the Holiday Season and the effect it can have on one’s health. All are welcome to join in person or watch Live via Facebook @Damon Lynch or YouTube. \nShare with your friends and family!
URL:https://newprospectbaptist.org/event/holiday-mental-health/
LOCATION:New Prospect Baptist Church\, 1580 Summit Road\, Cincinnati\, OH\, 45237\, United States
CATEGORIES:Bible Study,Mental Health & Wellness
END:VEVENT
BEGIN:VEVENT
DTSTART;TZID=UTC:20231105T130000
DTEND;TZID=UTC:20231105T150000
DTSTAMP:20260423T222424
CREATED:20231021T225710Z
LAST-MODIFIED:20231021T225710Z
UID:32605-1699189200-1699196400@newprospectbaptist.org
SUMMARY:SPARK Info Event
DESCRIPTION:SPARK (Simons Powering Autism Research Knowledge) will hold an information event at New Prospect Baptist Church on Sunday\, November 5th at 1:15 p.m. Learn about autism and how all families of all backgrounds can get involved to understand and treat those with the disorder. \nFor more information about SPARK\, click here
URL:https://newprospectbaptist.org/event/spark-info-event/
LOCATION:New Prospect Baptist Church\, 1580 Summit Road\, Cincinnati\, OH\, 45237\, United States
CATEGORIES:Community Relations
END:VEVENT
BEGIN:VEVENT
DTSTART;TZID=UTC:20231104T123000
DTEND;TZID=UTC:20231104T133000
DTSTAMP:20260423T222424
CREATED:20231101T014455Z
LAST-MODIFIED:20231101T014455Z
UID:32622-1699101000-1699104600@newprospectbaptist.org
SUMMARY:Senior Center Line Dance Party
DESCRIPTION:Join us for the Delores H. Bland Senior Center Line Dance Party on Saturday\, November 4th at 12:30 p.m. The line dance party will be in the church gym/dance studio at 1580 Summit Road. Tickets are $8 in advance or $10 at the door. Cashapp $kathyj36 or zelle 513-235-7736. Send your name and a screen shot of your payment via text at the phone number above and you will receive a receipt and be recorded for attendance.
URL:https://newprospectbaptist.org/event/senior-center-line-dance-party/
LOCATION:New Prospect Baptist Church\, 1580 Summit Road\, Cincinnati\, OH\, 45237\, United States
CATEGORIES:Seniors
END:VEVENT
BEGIN:VEVENT
DTSTART;TZID=UTC:20231104T110000
DTEND;TZID=UTC:20231104T140000
DTSTAMP:20260423T222424
CREATED:20231012T040452Z
LAST-MODIFIED:20231012T040452Z
UID:32590-1699095600-1699106400@newprospectbaptist.org
SUMMARY:Senior Day Center 2 Year Anniversary Celebration Open House
DESCRIPTION:Two years of laughter\, fun\, and joy! \nCome celebrate with our Delores H. Bland Senior Day Center Saturday\, November 4th for their 2 Year Anniversary Celebration! \nThe celebration will be from 11 a.m. – 2 p.m. and refreshments will be served! \nThere will also by door prizes and a TV Giveaway Raffle!
URL:https://newprospectbaptist.org/event/senior-day-center-2-year-anniversary-celebration-open-house/
LOCATION:Delores H. Bland Senior Day Center\, 1580 Summit Road\, Cincinnati\, OH\, 45237\, United States
CATEGORIES:Seniors
END:VEVENT
BEGIN:VEVENT
DTSTART;TZID=UTC:20231028T180000
DTEND;TZID=UTC:20231028T200000
DTSTAMP:20260423T222424
CREATED:20230916T150151Z
LAST-MODIFIED:20230918T191624Z
UID:32550-1698516000-1698523200@newprospectbaptist.org
SUMMARY:Trunk or Treat 2023
DESCRIPTION:New Prospect’s Operation Wakanda Youth Ministry will be hosting the annual fall Trunk or Treat on Saturday\, October 28th\, 6 p.m. – 8 p.m. at 1580 Summit Road. Plenty of fun and treats for the whole family to enjoy! \nAt this event we will also have Trunk or Treat\, offering drivers the opportunity to decorate their cars with goodies for the children. \nIf you would like to participate in the Trunk or Treat\, register your vehicle by completing the registration form titled Trunk or Treat 2023 below or call 513-721-2355. \n[gravityforms id=”105″ title=”true” /]
URL:https://newprospectbaptist.org/event/trunk-or-treat-2023/
LOCATION:New Prospect Baptist Church\, 1580 Summit Road\, Cincinnati\, OH\, 45237\, United States
CATEGORIES:Youth
END:VEVENT
BEGIN:VEVENT
DTSTART;TZID=UTC:20231008T090000
DTEND;TZID=UTC:20231008T150000
DTSTAMP:20260423T222424
CREATED:20221002T002601Z
LAST-MODIFIED:20230904T002813Z
UID:31861-1696755600-1696777200@newprospectbaptist.org
SUMMARY:Family Health Day
DESCRIPTION:Come join us for Family Health Day\, Sunday\, October 8th from 9 a.m. – 3 p.m.! Come take part in multiple health screenings and vendors. Guest can enjoy food\, giveaways\, raffles\, and prizes. \nFor more information\, visit www.familyhealthday.org
URL:https://newprospectbaptist.org/event/family-health-day-3/
LOCATION:New Prospect Baptist Church\, 1580 Summit Road\, Cincinnati\, OH\, 45237\, United States
ORGANIZER;CN="Cincinnati First Ladies for Health":MAILTO:cincyfirstladies@gmail.com
END:VEVENT
END:VCALENDAR