BEGIN:VCALENDAR
VERSION:2.0
PRODID:-//New Prospect Baptist Church - ECPv6.15.20//NONSGML v1.0//EN
CALSCALE:GREGORIAN
METHOD:PUBLISH
X-WR-CALNAME:New Prospect Baptist Church
X-ORIGINAL-URL:https://newprospectbaptist.org
X-WR-CALDESC:Events for New Prospect Baptist Church
REFRESH-INTERVAL;VALUE=DURATION:PT1H
X-Robots-Tag:noindex
X-PUBLISHED-TTL:PT1H
BEGIN:VTIMEZONE
TZID:America/New_York
BEGIN:DAYLIGHT
TZOFFSETFROM:-0500
TZOFFSETTO:-0400
TZNAME:EDT
DTSTART:20240310T070000
END:DAYLIGHT
BEGIN:STANDARD
TZOFFSETFROM:-0400
TZOFFSETTO:-0500
TZNAME:EST
DTSTART:20241103T060000
END:STANDARD
BEGIN:DAYLIGHT
TZOFFSETFROM:-0500
TZOFFSETTO:-0400
TZNAME:EDT
DTSTART:20250309T070000
END:DAYLIGHT
BEGIN:STANDARD
TZOFFSETFROM:-0400
TZOFFSETTO:-0500
TZNAME:EST
DTSTART:20251102T060000
END:STANDARD
BEGIN:DAYLIGHT
TZOFFSETFROM:-0500
TZOFFSETTO:-0400
TZNAME:EDT
DTSTART:20260308T070000
END:DAYLIGHT
BEGIN:STANDARD
TZOFFSETFROM:-0400
TZOFFSETTO:-0500
TZNAME:EST
DTSTART:20261101T060000
END:STANDARD
END:VTIMEZONE
BEGIN:VTIMEZONE
TZID:UTC
BEGIN:STANDARD
TZOFFSETFROM:+0000
TZOFFSETTO:+0000
TZNAME:UTC
DTSTART:20230101T000000
END:STANDARD
END:VTIMEZONE
BEGIN:VEVENT
DTSTART;TZID=America/New_York:20251220T120000
DTEND;TZID=America/New_York:20251220T160000
DTSTAMP:20260423T180554
CREATED:20251207T063919Z
LAST-MODIFIED:20251207T063919Z
UID:33837-1766232000-1766246400@newprospectbaptist.org
SUMMARY:WOW Ugly Sweater & Karaoke Christmas Party
DESCRIPTION:Please complete the form below to register for this year’s WOW Annual Christmas event. \n\nLoading…
URL:https://newprospectbaptist.org/event/wow-ugly-sweater-karaoke-christmas-party/
LOCATION:OH
END:VEVENT
BEGIN:VEVENT
DTSTART;TZID=UTC:20250823T100000
DTEND;TZID=UTC:20250823T140000
DTSTAMP:20260423T180554
CREATED:20250805T045047Z
LAST-MODIFIED:20250805T045047Z
UID:33756-1755943200-1755957600@newprospectbaptist.org
SUMMARY:Church Signers Workshop
DESCRIPTION:
URL:https://newprospectbaptist.org/event/church-signers-workshop/
LOCATION:New Prospect Baptist Church\, 1580 Summit Road\, Cincinnati\, OH\, 45237\, United States
END:VEVENT
BEGIN:VEVENT
DTSTART;TZID=UTC:20250815T180000
DTEND;TZID=UTC:20250815T200000
DTSTAMP:20260423T180554
CREATED:20250805T043029Z
LAST-MODIFIED:20250805T043029Z
UID:33744-1755280800-1755288000@newprospectbaptist.org
SUMMARY:New Prospect Night Out
DESCRIPTION:
URL:https://newprospectbaptist.org/event/new-prospect-night-out/
LOCATION:New Prospect Baptist Church\, 1580 Summit Road\, Cincinnati\, OH\, 45237\, United States
END:VEVENT
BEGIN:VEVENT
DTSTART;TZID=America/New_York:20250809T090000
DTEND;TZID=America/New_York:20250809T150000
DTSTAMP:20260423T180554
CREATED:20250629T062007Z
LAST-MODIFIED:20250629T062007Z
UID:33684-1754730000-1754751600@newprospectbaptist.org
SUMMARY:Delores H. Bland Senior Day Center - Yard Sale
DESCRIPTION:Please complete the form application below to become a vendor for the event.  You must also make payment to secure your space.  Go to  https://bit.ly/NPBCTickets to make your payment once you have submitted the application.\n\nLoading…
URL:https://newprospectbaptist.org/event/delores-h-bland-senior-day-center-yard-sale/
LOCATION:New Prospect Baptist Church\, 1580 Summit Road\, Cincinnati\, OH\, 45237\, United States
END:VEVENT
BEGIN:VEVENT
DTSTART;TZID=UTC:20250809T080000
DTEND;TZID=UTC:20250809T120000
DTSTAMP:20260423T180554
CREATED:20250805T044206Z
LAST-MODIFIED:20250805T044546Z
UID:33753-1754726400-1754740800@newprospectbaptist.org
SUMMARY:Church Cleanup Day
DESCRIPTION:
URL:https://newprospectbaptist.org/event/church-cleanup-day-aug-9th/
LOCATION:New Prospect Baptist Church\, 1580 Summit Road\, Cincinnati\, OH\, 45237\, United States
END:VEVENT
BEGIN:VEVENT
DTSTART;TZID=UTC:20250808T100000
DTEND;TZID=UTC:20250808T120000
DTSTAMP:20260423T180554
CREATED:20250805T043810Z
LAST-MODIFIED:20250805T043858Z
UID:33748-1754647200-1754654400@newprospectbaptist.org
SUMMARY:Church Cleanup Day
DESCRIPTION:
URL:https://newprospectbaptist.org/event/church-cleanup-day-aug-8th/
LOCATION:New Prospect Baptist Church\, 1580 Summit Road\, Cincinnati\, OH\, 45237\, United States
END:VEVENT
BEGIN:VEVENT
DTSTART;TZID=UTC:20250725T180000
DTEND;TZID=UTC:20250726T180000
DTSTAMP:20260423T180554
CREATED:20250712T065100Z
LAST-MODIFIED:20250712T073053Z
UID:33693-1753466400-1753552800@newprospectbaptist.org
SUMMARY:Men of Integrity - Boys To Men Retreat 2025
DESCRIPTION:Men of Integrity’s 3rd Annual Boys To Men Camp\nA 24 Hour Overnight Experience \nFriday\, July 25th @6pm – Saturday\, July 26th @ 6pm \nActivities Include:\nOutdoor Camping\, Games\, Bible & Financial Trivia\, Prizes\, Food & More \nClick here to view the Camping Checklist \nClick here to view the Minor (Child) Photo Release Form \nClick here to view the Permission Slip Form \nPlease complete the form below to register for this free camp experience.
URL:https://newprospectbaptist.org/event/boys-to-men-retreat-2025/
LOCATION:New Prospect Baptist Church\, 1580 Summit Road\, Cincinnati\, OH\, 45237\, United States
END:VEVENT
BEGIN:VEVENT
DTSTART;TZID=UTC:20250622T110000
DTEND;TZID=UTC:20250622T140000
DTSTAMP:20260423T180554
CREATED:20250427T065909Z
LAST-MODIFIED:20250602T042339Z
UID:33615-1750590000-1750600800@newprospectbaptist.org
SUMMARY:2025 Graduation Celebration
DESCRIPTION:Prove them Wrong!\n“For I know the plans I have for you\, declares the LORD\, plans to\nprosper you and not to harm you plans to give you hope and a future.” ~ Jeremiah 29:11\nNew Prospect will recognize our hard-working Graduates on Sunday\, June 22nd\, 11 a.m. at 1580 Summit Road. \nNOTE: In order to be recognized\, you must be an active member of New Prospect Baptist Church and/or The Edge Youth Church.
URL:https://newprospectbaptist.org/event/2025grads/
LOCATION:New Prospect Baptist Church\, 1580 Summit Road\, Cincinnati\, OH\, 45237\, United States
CATEGORIES:Academics
END:VEVENT
BEGIN:VEVENT
DTSTART;TZID=UTC:20250524T120000
DTEND;TZID=UTC:20250524T160000
DTSTAMP:20260423T180554
CREATED:20250406T035235Z
LAST-MODIFIED:20250408T003620Z
UID:33550-1748088000-1748102400@newprospectbaptist.org
SUMMARY:A Mother's Day Brunch and Fashion Show
DESCRIPTION:New Prospect’s Women of Worth (W.O.W.) ministry will host A Mother’s Day Brunch and Fashion Show on Saturday\, May 24th at 12 p.m. All Women are invited for a $20 ticket purchase.
URL:https://newprospectbaptist.org/event/momsdaybrunchfashion2025/
LOCATION:New Prospect Baptist Church\, 1580 Summit Road\, Cincinnati\, OH\, 45237\, United States
CATEGORIES:Women
ORGANIZER;CN="Women Of Worth":MAILTO:Women@NewProspectBaptist.org
END:VEVENT
BEGIN:VEVENT
DTSTART;TZID=UTC:20250517T100000
DTEND;TZID=UTC:20250517T110000
DTSTAMP:20260423T180554
CREATED:20250205T042909Z
LAST-MODIFIED:20250420T204204Z
UID:33441-1747476000-1747479600@newprospectbaptist.org
SUMMARY:Zumba class with Malinda
DESCRIPTION:Women are welcomed to exercise in Zumba class on Saturday\, May\, 17th at 10 a.m. at 1580 Summit Road. To order your Zumba fitness shirt today\, scan the QR code in the flyer below\, or click here
URL:https://newprospectbaptist.org/event/zumba-class-with-malinda/
LOCATION:New Prospect Baptist Church\, 1580 Summit Road\, Cincinnati\, OH\, 45237\, United States
CATEGORIES:Women
END:VEVENT
BEGIN:VEVENT
DTSTART;TZID=UTC:20250503T110000
DTEND;TZID=UTC:20250503T130000
DTSTAMP:20260423T180554
CREATED:20250413T201522Z
LAST-MODIFIED:20250413T201522Z
UID:33587-1746270000-1746277200@newprospectbaptist.org
SUMMARY:Let's Talk 2.0
DESCRIPTION:New Prospect will serve as host to Let’s Talk 2.0: Mental Health Wellness Resource Fair on Saturday\, May 3rd at 11 a.m.  Presented by the First Ladies for Health\, this event is free and open to the public with a lite lunch included. To reserve for this event\, scan the QR code in the flyer below or click here
URL:https://newprospectbaptist.org/event/letstalk2pt0/
LOCATION:New Prospect Baptist Church\, 1580 Summit Road\, Cincinnati\, OH\, 45237\, United States
CATEGORIES:Mental Health & Wellness
END:VEVENT
BEGIN:VEVENT
DTSTART;TZID=UTC:20250501T190000
DTEND;TZID=UTC:20250501T210000
DTSTAMP:20260423T180554
CREATED:20250429T014739Z
LAST-MODIFIED:20250429T014739Z
UID:33639-1746126000-1746133200@newprospectbaptist.org
SUMMARY:Fellowship with Corinthian
DESCRIPTION:Join New Prospect as we fellowship with Corinthian Baptist Church (1920 Tennessee Avenue\, Cincinnati\, OH 45237). Our very own Pastor Damon Lynch\, III will be speaking at the service on Thursday\, May 1st at 7 p.m.
URL:https://newprospectbaptist.org/event/fellowship-with-corinthian/
LOCATION:Corinthian Baptist Church\, 1920 Tennessee Ave\, Cincinnati\, OH\, 45237\, United States
CATEGORIES:Interchurch Fellowship
END:VEVENT
BEGIN:VEVENT
DTSTART;TZID=UTC:20250419T100000
DTEND;TZID=UTC:20250419T140000
DTSTAMP:20260423T180554
CREATED:20230326T214218Z
LAST-MODIFIED:20250413T192136Z
UID:32199-1745056800-1745071200@newprospectbaptist.org
SUMMARY:Eggstraordinary Easter Adventure
DESCRIPTION:Bring your kids to the Easter Egg Hunt at New Prospect on Saturday\, April 19th from 10 a.m. to 2 p.m. Plenty of food\, games\, and fun!!!
URL:https://newprospectbaptist.org/event/eggstraordinary-easter-adventure/
LOCATION:New Prospect Baptist Church\, 1580 Summit Road\, Cincinnati\, OH\, 45237\, United States
CATEGORIES:Youth
END:VEVENT
BEGIN:VEVENT
DTSTART;TZID=UTC:20250412T100000
DTEND;TZID=UTC:20250412T120000
DTSTAMP:20260423T180554
CREATED:20220329T170346Z
LAST-MODIFIED:20250408T033100Z
UID:31451-1744452000-1744459200@newprospectbaptist.org
SUMMARY:Men's Prayer Breakfast
DESCRIPTION:New Prospect’s Men of Integrity Men’s Ministry is hosting a prayer breakfast on Saturday\, April 12th\, 10 a.m. – 12 p.m. at 1580 Summit Road.
URL:https://newprospectbaptist.org/event/mens-breakfast-04122025/
LOCATION:New Prospect Baptist Church\, 1580 Summit Road\, Cincinnati\, OH\, 45237\, United States
CATEGORIES:Men
END:VEVENT
BEGIN:VEVENT
DTSTART;TZID=UTC:20250409T190000
DTEND;TZID=UTC:20250409T210000
DTSTAMP:20260423T180554
CREATED:20250408T035636Z
LAST-MODIFIED:20250408T040040Z
UID:33567-1744225200-1744232400@newprospectbaptist.org
SUMMARY:New Nazarene Pleasant Hill Baptist Church
DESCRIPTION:Join New Prospect for New Nazarene Pleasant Hill Baptist Church’s Revival on Wednesday\, April 9th at 7 p.m. Pastor Damon Lynch\, III will be preaching at the church\, located on 631 De Votie Avenue Cincinnati\, OH 45225.
URL:https://newprospectbaptist.org/event/new-nazarene-pleasant-hill-baptist-church/
LOCATION:New Nazarene Pleasant Hill Baptist Church\, 631 De Votie Ave\, Cincinnati\, OH\, 45225\, United States
CATEGORIES:Interchurch Fellowship,Revival
END:VEVENT
BEGIN:VEVENT
DTSTART;TZID=UTC:20250330T080000
DTEND;TZID=UTC:20250330T130000
DTSTAMP:20260423T180554
CREATED:20250302T203034Z
LAST-MODIFIED:20250302T203055Z
UID:33504-1743321600-1743339600@newprospectbaptist.org
SUMMARY:New Prospect Family & Friends Sunday
DESCRIPTION:New Prospect Family\, we’re asking you to invite a fellow family member or friend to church with you on Sunday\, March 30th at our 8 a.m. and 11 a.m. services. Let’s rejoice and bring a guest!
URL:https://newprospectbaptist.org/event/npbc-family-friends-sunday/
LOCATION:New Prospect Baptist Church\, 1580 Summit Road\, Cincinnati\, OH\, 45237\, United States
END:VEVENT
BEGIN:VEVENT
DTSTART;TZID=UTC:20250315T170000
DTEND;TZID=UTC:20250315T210000
DTSTAMP:20260423T180554
CREATED:20250218T013057Z
LAST-MODIFIED:20250218T013057Z
UID:33483-1742058000-1742072400@newprospectbaptist.org
SUMMARY:Level 65: Lights Camera Action!
DESCRIPTION:You’re invited to Level 65: Lights\, Camera\, Action! On Saturday\, March 15th at 5 p.m.\, New Prospect will celebrate the birthday of Pastor Damon Lynch\, III. This event is free and open to all ages! To RSVP\, call the church office at 513-721-2355.
URL:https://newprospectbaptist.org/event/level-65-lights-camera-action/
LOCATION:New Prospect Baptist Church\, 1580 Summit Road\, Cincinnati\, OH\, 45237\, United States
END:VEVENT
BEGIN:VEVENT
DTSTART;TZID=UTC:20250228T180000
DTEND;TZID=UTC:20250228T200000
DTSTAMP:20260423T180554
CREATED:20250213T023117Z
LAST-MODIFIED:20250213T025431Z
UID:33464-1740765600-1740772800@newprospectbaptist.org
SUMMARY:AAEW Faith Recovery: Celebrate Recovery 4
DESCRIPTION:Are you in Recovery? Join us for the AAEW Faith Recovery: Celebrate Recovery 4 on Friday\, February 28th\, 6 p.m. to 8 p.m. Together\, we can continue to promote healing\, hope\, and restoration for all.
URL:https://newprospectbaptist.org/event/aaew-faith-recovery-celebrate-recovery-4/
LOCATION:New Prospect Baptist Church\, 1580 Summit Road\, Cincinnati\, OH\, 45237\, United States
END:VEVENT
BEGIN:VEVENT
DTSTART;TZID=UTC:20250224T110000
DTEND;TZID=UTC:20250224T140000
DTSTAMP:20260423T180554
CREATED:20250213T014434Z
LAST-MODIFIED:20250213T014434Z
UID:33458-1740394800-1740405600@newprospectbaptist.org
SUMMARY:Black History Luncheon
DESCRIPTION:Seniors age 55 and older are invited to the Bland Senior Day Center at 1580 Summit Road for the Black History Luncheon. This event will take place on Monday\, February 24th\, 11 a.m. to 2 p.m. Seating is limited\, so RSVP for your free tickets by calling 513-721-2355.
URL:https://newprospectbaptist.org/event/black-history-luncheon/
LOCATION:Delores H. Bland Senior Day Center\, 1580 Summit Road\, Cincinnati\, OH\, 45237\, United States
CATEGORIES:Seniors
END:VEVENT
BEGIN:VEVENT
DTSTART;TZID=UTC:20250215T100000
DTEND;TZID=UTC:20250215T113000
DTSTAMP:20260423T180554
CREATED:20250212T175010Z
LAST-MODIFIED:20250213T024317Z
UID:33452-1739613600-1739619000@newprospectbaptist.org
SUMMARY:Garden Growers Workshop
DESCRIPTION:Join New Prospect as we begin to grow our harvest in 2025! You’re invited to our first Garden Growers Workshop on Saturday\, February 15th at 1580 Summit Road (in the Community Room). You have the option of attending one of two sessions: 10 a.m. to 11:30 a.m. or 1 p.m. to 2:30 p.m. For more information\, call the church office at 513-721-2355.
URL:https://newprospectbaptist.org/event/garden-growers-workshop/
LOCATION:New Prospect Baptist Church\, 1580 Summit Road\, Cincinnati\, OH\, 45237\, United States
END:VEVENT
BEGIN:VEVENT
DTSTART;TZID=UTC:20250125T100000
DTEND;TZID=UTC:20250125T120000
DTSTAMP:20260423T180554
CREATED:20250108T051952Z
LAST-MODIFIED:20250108T052056Z
UID:33396-1737799200-1737806400@newprospectbaptist.org
SUMMARY:Women of Worth Vision Board Party
DESCRIPTION:New Prospect’s Women of Worth (W.O.W.) Women’s Ministry is hosting their annual Vision Board Party. Ladies are invited for a creative day of planning and inspiration on Saturday\, January 25th\, 2025\, 10 a.m. to 2 p.m. at 1580 Summit Road.
URL:https://newprospectbaptist.org/event/wow-vision-board-party/
LOCATION:New Prospect Baptist Church\, 1580 Summit Road\, Cincinnati\, OH\, 45237\, United States
CATEGORIES:Women
END:VEVENT
BEGIN:VEVENT
DTSTART;TZID=UTC:20241231T190000
DTEND;TZID=UTC:20241231T210000
DTSTAMP:20260423T180554
CREATED:20241211T034610Z
LAST-MODIFIED:20241211T034610Z
UID:33361-1735671600-1735678800@newprospectbaptist.org
SUMMARY:New Year's Eve Watch Night
DESCRIPTION:On Tuesday\, December 31st at 7 p.m.\, join New Prospect as we close out the year with gratitude and step into the new year with purpose! This special Watch Night Service will include the ordination of our Deacons—a momentous occasion for our Church Family.
URL:https://newprospectbaptist.org/event/new-years-eve-watch-night/
LOCATION:New Prospect Baptist Church\, 1580 Summit Road\, Cincinnati\, OH\, 45237\, United States
CATEGORIES:Worship Service
END:VEVENT
BEGIN:VEVENT
DTSTART;TZID=UTC:20241213T170000
DTEND;TZID=UTC:20241213T200000
DTSTAMP:20260423T180554
CREATED:20241119T011038Z
LAST-MODIFIED:20241125T224523Z
UID:33330-1734109200-1734120000@newprospectbaptist.org
SUMMARY:W.O.W. Holiday Karaoke Night
DESCRIPTION:New Prospect’s Women of Worth (W.O.W.) Women’s ministry will host a Holiday Karaoke Night on Friday\, December 13th\, 5 p.m. to 8 p.m. Ladies and Girls are invited to come to the Delores H. Bland Center to fellowship and spread Holiday cheer! Wear your ugly Holiday sweater to participate in the contest. \n\n\n[gravityforms id=”122″ title=”true” /]
URL:https://newprospectbaptist.org/event/wow-karaoke-night/
LOCATION:Delores H. Bland Senior Day Center\, 1580 Summit Road\, Cincinnati\, OH\, 45237\, United States
CATEGORIES:Women
END:VEVENT
BEGIN:VEVENT
DTSTART;TZID=UTC:20241208T170000
DTEND;TZID=UTC:20241208T180000
DTSTAMP:20260423T180554
CREATED:20241119T010111Z
LAST-MODIFIED:20241202T174850Z
UID:33326-1733677200-1733680800@newprospectbaptist.org
SUMMARY:NPBC Tree Trimming Celebration
DESCRIPTION:Join us in New Prospect’s Courtyard on Sunday\, December 8th at 5 p.m. for our tree trimming celebration. Bring a sentimental ornament to help deck out the courtyard. Free cookies and Hot Chocolate Bar!
URL:https://newprospectbaptist.org/event/npbc-tree-trimming-celebration/
LOCATION:New Prospect Baptist Church\, 1580 Summit Road\, Cincinnati\, OH\, 45237\, United States
END:VEVENT
BEGIN:VEVENT
DTSTART;TZID=UTC:20241122T180000
DTEND;TZID=UTC:20241122T200000
DTSTAMP:20260423T180554
CREATED:20241112T052229Z
LAST-MODIFIED:20241112T052229Z
UID:33307-1732298400-1732305600@newprospectbaptist.org
SUMMARY:AAEW Faith Recovery Community Town Hall
DESCRIPTION:The African American Engagement Workgroup is hosting a town hall event: “Celebrating Recovery\, Building Community” on Friday\, November 22nd\, 6 p.m. at 1580 Summit Road. To rsvp for this event\, please click here.
URL:https://newprospectbaptist.org/event/aaew-faith-recovery-community-town-hall/
LOCATION:New Prospect Baptist Church\, 1580 Summit Road\, Cincinnati\, OH\, 45237\, United States
CATEGORIES:Community Relations
END:VEVENT
BEGIN:VEVENT
DTSTART;TZID=UTC:20241120T190000
DTEND;TZID=UTC:20241120T210000
DTSTAMP:20260423T180554
CREATED:20240917T052200Z
LAST-MODIFIED:20241119T004608Z
UID:33181-1732129200-1732136400@newprospectbaptist.org
SUMMARY:Fall Bible Study Series
DESCRIPTION:Brother Royce Sutton will continue his Powerful Questions in the Bible series. To register for this event click here \nTo purchase the book\, click here
URL:https://newprospectbaptist.org/event/fall-bible-study-series/
LOCATION:OH
CATEGORIES:Bible Study
END:VEVENT
BEGIN:VEVENT
DTSTART;TZID=UTC:20241120T180000
DTEND;TZID=UTC:20241120T200000
DTSTAMP:20260423T180554
CREATED:20241104T052228Z
LAST-MODIFIED:20241104T052228Z
UID:33289-1732125600-1732132800@newprospectbaptist.org
SUMMARY:Turning Holiday Blues into Spiritual Highs
DESCRIPTION:New Prospect’s Mental Health and Wellness Ministry will present Turning Holiday Blues into Spiritual Highs on Wednesday\, November 20th at 6 p.m. All are welcomed to attend in person at 1580 Summit Road or virtually via YouTube or Facebook.
URL:https://newprospectbaptist.org/event/holiday-blues-spiritual-highs/
LOCATION:OH
CATEGORIES:Mental Health & Wellness
END:VEVENT
BEGIN:VEVENT
DTSTART;TZID=UTC:20241116T110000
DTEND;TZID=UTC:20241116T140000
DTSTAMP:20260423T180554
CREATED:20241104T050708Z
LAST-MODIFIED:20241112T043206Z
UID:33284-1731754800-1731765600@newprospectbaptist.org
SUMMARY:Cancelled: Senior Day Center 3rd Anniversary Celebration
DESCRIPTION:Come celebrate with our Delores H. Bland Senior Day Center on Saturday\, November 16th for our 3rd Anniversary Celebration! \nThe celebration will be from 11 a.m. – 2 p.m. and refreshments will be served! \nThere will also by door prizes and a TV Giveaway Raffle! \nUpdate: Until further notice\, this event has been cancelled.
URL:https://newprospectbaptist.org/event/senior-day-center-3rd-anniversary-celebration/
LOCATION:Delores H. Bland Senior Day Center\, 1580 Summit Road\, Cincinnati\, OH\, 45237\, United States
END:VEVENT
BEGIN:VEVENT
DTSTART;TZID=UTC:20241115T180000
DTEND;TZID=UTC:20241116T180000
DTSTAMP:20260423T180554
CREATED:20241112T050142Z
LAST-MODIFIED:20241112T050142Z
UID:33301-1731693600-1731780000@newprospectbaptist.org
SUMMARY:Prayer Shut-In: 24 Hours for Healing
DESCRIPTION:Join New Prospect as we engage in a city-wide day of prayer and healing. On Friday\, November 15th from 6 p.m. to 6 a.m. we will unite in person at 1580 Summit Road to pray for all matters affecting our families\, communities and nation. Then on Saturday\, November 16th from 6 a.m. to 6 p.m.\, we will join in prayer virtually (thru Zoom video by clicking here or phone by calling 646-876-9923 and entering meeting id 221 969 882# and password 480481).
URL:https://newprospectbaptist.org/event/prayer-shut-in-24-hours-for-healing/
LOCATION:New Prospect Baptist Church\, 1580 Summit Road\, Cincinnati\, OH\, 45237\, United States
CATEGORIES:Church Events
END:VEVENT
BEGIN:VEVENT
DTSTART;TZID=UTC:20241026T170000
DTEND;TZID=UTC:20241026T190000
DTSTAMP:20260423T180554
CREATED:20240920T032925Z
LAST-MODIFIED:20240929T030539Z
UID:33194-1729962000-1729969200@newprospectbaptist.org
SUMMARY:Trunk or Treat 2024
DESCRIPTION:New Prospect’s Operation Wakanda Youth Ministry will be hosting the annual fall Trunk or Treat on Saturday\, October 26th\, 5 p.m. – 7 p.m. at 1580 Summit Road. Plenty of fun and treats for the whole family to enjoy! \nTo register your child(ren) if they plan to attend this event\, please complete the registration form below titled “Trunk or Treat 2024 Parent-Child Info”. \nAt this event we will also offer drivers the opportunity to decorate their cars with goodies for the children. \nIf you would like to participate in the Trunk or Treat with your decorated vehicle\, register your vehicle by completing the registration form below titled “Trunk or Treat 2024 – Car Decoration Registration”. \n\n[gravityforms id=”120″ title=”true” /]\n\n[gravityforms id=”121″ title=”true” /]
URL:https://newprospectbaptist.org/event/trunk-or-treat-2024/
LOCATION:OH
CATEGORIES:Youth
END:VEVENT
END:VCALENDAR