BEGIN:VCALENDAR
VERSION:2.0
PRODID:-//New Prospect Baptist Church - ECPv6.15.20//NONSGML v1.0//EN
CALSCALE:GREGORIAN
METHOD:PUBLISH
X-WR-CALNAME:New Prospect Baptist Church
X-ORIGINAL-URL:https://newprospectbaptist.org
X-WR-CALDESC:Events for New Prospect Baptist Church
REFRESH-INTERVAL;VALUE=DURATION:PT1H
X-Robots-Tag:noindex
X-PUBLISHED-TTL:PT1H
BEGIN:VTIMEZONE
TZID:UTC
BEGIN:STANDARD
TZOFFSETFROM:+0000
TZOFFSETTO:+0000
TZNAME:UTC
DTSTART:20180101T000000
END:STANDARD
END:VTIMEZONE
BEGIN:VTIMEZONE
TZID:America/New_York
BEGIN:DAYLIGHT
TZOFFSETFROM:-0500
TZOFFSETTO:-0400
TZNAME:EDT
DTSTART:20190310T070000
END:DAYLIGHT
BEGIN:STANDARD
TZOFFSETFROM:-0400
TZOFFSETTO:-0500
TZNAME:EST
DTSTART:20191103T060000
END:STANDARD
BEGIN:DAYLIGHT
TZOFFSETFROM:-0500
TZOFFSETTO:-0400
TZNAME:EDT
DTSTART:20200308T070000
END:DAYLIGHT
BEGIN:STANDARD
TZOFFSETFROM:-0400
TZOFFSETTO:-0500
TZNAME:EST
DTSTART:20201101T060000
END:STANDARD
BEGIN:DAYLIGHT
TZOFFSETFROM:-0500
TZOFFSETTO:-0400
TZNAME:EDT
DTSTART:20210314T070000
END:DAYLIGHT
BEGIN:STANDARD
TZOFFSETFROM:-0400
TZOFFSETTO:-0500
TZNAME:EST
DTSTART:20211107T060000
END:STANDARD
END:VTIMEZONE
BEGIN:VEVENT
DTSTART;TZID=UTC:20250524T120000
DTEND;TZID=UTC:20250524T160000
DTSTAMP:20260423T222612
CREATED:20250406T035235Z
LAST-MODIFIED:20250408T003620Z
UID:33550-1748088000-1748102400@newprospectbaptist.org
SUMMARY:A Mother's Day Brunch and Fashion Show
DESCRIPTION:New Prospect’s Women of Worth (W.O.W.) ministry will host A Mother’s Day Brunch and Fashion Show on Saturday\, May 24th at 12 p.m. All Women are invited for a $20 ticket purchase.
URL:https://newprospectbaptist.org/event/momsdaybrunchfashion2025/
LOCATION:New Prospect Baptist Church\, 1580 Summit Road\, Cincinnati\, OH\, 45237\, United States
CATEGORIES:Women
ORGANIZER;CN="Women Of Worth":MAILTO:Women@NewProspectBaptist.org
END:VEVENT
BEGIN:VEVENT
DTSTART;TZID=UTC:20250517T100000
DTEND;TZID=UTC:20250517T110000
DTSTAMP:20260423T222612
CREATED:20250205T042909Z
LAST-MODIFIED:20250420T204204Z
UID:33441-1747476000-1747479600@newprospectbaptist.org
SUMMARY:Zumba class with Malinda
DESCRIPTION:Women are welcomed to exercise in Zumba class on Saturday\, May\, 17th at 10 a.m. at 1580 Summit Road. To order your Zumba fitness shirt today\, scan the QR code in the flyer below\, or click here
URL:https://newprospectbaptist.org/event/zumba-class-with-malinda/
LOCATION:New Prospect Baptist Church\, 1580 Summit Road\, Cincinnati\, OH\, 45237\, United States
CATEGORIES:Women
END:VEVENT
BEGIN:VEVENT
DTSTART;TZID=UTC:20250125T100000
DTEND;TZID=UTC:20250125T120000
DTSTAMP:20260423T222612
CREATED:20250108T051952Z
LAST-MODIFIED:20250108T052056Z
UID:33396-1737799200-1737806400@newprospectbaptist.org
SUMMARY:Women of Worth Vision Board Party
DESCRIPTION:New Prospect’s Women of Worth (W.O.W.) Women’s Ministry is hosting their annual Vision Board Party. Ladies are invited for a creative day of planning and inspiration on Saturday\, January 25th\, 2025\, 10 a.m. to 2 p.m. at 1580 Summit Road.
URL:https://newprospectbaptist.org/event/wow-vision-board-party/
LOCATION:New Prospect Baptist Church\, 1580 Summit Road\, Cincinnati\, OH\, 45237\, United States
CATEGORIES:Women
END:VEVENT
BEGIN:VEVENT
DTSTART;TZID=UTC:20241213T170000
DTEND;TZID=UTC:20241213T200000
DTSTAMP:20260423T222612
CREATED:20241119T011038Z
LAST-MODIFIED:20241125T224523Z
UID:33330-1734109200-1734120000@newprospectbaptist.org
SUMMARY:W.O.W. Holiday Karaoke Night
DESCRIPTION:New Prospect’s Women of Worth (W.O.W.) Women’s ministry will host a Holiday Karaoke Night on Friday\, December 13th\, 5 p.m. to 8 p.m. Ladies and Girls are invited to come to the Delores H. Bland Center to fellowship and spread Holiday cheer! Wear your ugly Holiday sweater to participate in the contest. \n\n\n[gravityforms id=”122″ title=”true” /]
URL:https://newprospectbaptist.org/event/wow-karaoke-night/
LOCATION:Delores H. Bland Senior Day Center\, 1580 Summit Road\, Cincinnati\, OH\, 45237\, United States
CATEGORIES:Women
END:VEVENT
BEGIN:VEVENT
DTSTART;TZID=UTC:20240413T110000
DTEND;TZID=UTC:20240413T130000
DTSTAMP:20260423T222612
CREATED:20240324T234301Z
LAST-MODIFIED:20240324T234301Z
UID:32886-1713006000-1713013200@newprospectbaptist.org
SUMMARY:Empowering Healthy Girls to Women Workshop
DESCRIPTION:Empowering Healthy Girls to Women Workshop will be held at New Prospect (1580 Summit Road) on Saturday\, April 13th\, 11 a.m. – 1 p.m. This event is for girls\, ages 11-14. To register for this event by Monday\, April 8th\, click here.
URL:https://newprospectbaptist.org/event/empowering-healthy-girls-to-women-workshop/
LOCATION:New Prospect Baptist Church\, 1580 Summit Road\, Cincinnati\, OH\, 45237\, United States
CATEGORIES:Women
END:VEVENT
BEGIN:VEVENT
DTSTART;TZID=UTC:20230909T100000
DTEND;TZID=UTC:20230909T140000
DTSTAMP:20260423T222612
CREATED:20230822T020646Z
LAST-MODIFIED:20230826T160020Z
UID:32479-1694253600-1694268000@newprospectbaptist.org
SUMMARY:Cincinnati Kickoff: The State of Black Women\, Faith & Ministry
DESCRIPTION:Join us September 9th and 10th at New Prospect Baptist Church as we bring Womanish work to Cincinnati\, OH with this two-day event on the State of Black Women\, Faith and Ministry. \nOn September 9th\, starting at 10 a.m.\, we will host a half-day conference with interactive panels and breakout sessions. On Sunday at 11 a.m.\, we will come together for a non-traditional worship service. \nDon’t miss this movement. To register click here.
URL:https://newprospectbaptist.org/event/cincinnati-kickoff-the-state-of-black-women-faith-ministry/
LOCATION:New Prospect Baptist Church\, 1580 Summit Road\, Cincinnati\, OH\, 45237\, United States
CATEGORIES:Women
END:VEVENT
BEGIN:VEVENT
DTSTART;TZID=UTC:20230617T100000
DTEND;TZID=UTC:20230617T120000
DTSTAMP:20260423T222612
CREATED:20230531T002948Z
LAST-MODIFIED:20230531T002948Z
UID:32321-1686996000-1687003200@newprospectbaptist.org
SUMMARY:Spiritual Gifts: Purpose & Passion Part II
DESCRIPTION:The original Spiritual Gifts: Purpose & Passion event was such a huge success\, we’re coming back with a sequel! New Prospect’s Women of Worth (W.O.W.) Women’s Ministry invites you to Spiritual Gifts: Purpose & Passion – Part II on Saturday\, June 17th. Held at our 1580 Summit Road location\, we’ll focus on what your purpose is and how to use your spiritual gifts. Executive Pastor James Wilson will be our guest speaker once again.
URL:https://newprospectbaptist.org/event/spiritual-gifts-purpose-passion-part-ii/
LOCATION:New Prospect Baptist Church\, 1580 Summit Road\, Cincinnati\, OH\, 45237\, United States
CATEGORIES:Women
END:VEVENT
BEGIN:VEVENT
DTSTART;TZID=UTC:20230520T110000
DTEND;TZID=UTC:20230520T140000
DTSTAMP:20260423T222612
CREATED:20230430T231255Z
LAST-MODIFIED:20230430T231255Z
UID:32277-1684580400-1684591200@newprospectbaptist.org
SUMMARY:Women: Replenish\, Refresh\, Renew
DESCRIPTION:New Prospect’s Women of Worth Women’s Ministry presents “Women: Replenish\, Refresh\, Renew” on Saturday\, May 20th\, 11 a.m. – 2 p.m. at the Summit Center. This event is free for women to focus on beauty\, hair\, fashion and health.
URL:https://newprospectbaptist.org/event/women-replenish-refresh-renew/
LOCATION:The Summit Center\, 1580 Summit Road\, Cincinnati\, OH\, 45237\, United States
CATEGORIES:Women
END:VEVENT
BEGIN:VEVENT
DTSTART;TZID=UTC:20230422T100000
DTEND;TZID=UTC:20230422T120000
DTSTAMP:20260423T222612
CREATED:20230408T195358Z
LAST-MODIFIED:20230408T195358Z
UID:32228-1682157600-1682164800@newprospectbaptist.org
SUMMARY:Spiritual Gifts: Purpose & Passion
DESCRIPTION:New Prospect’s Women of Worth (W.O.W.) Women’s Ministry invites you to Spiritual Gifts: Purpose & Passion on Saturday\, April 22\, 2023.  Held at our 1580 Summit Road location\, we’ll focus on what your purpose is and how to use your spiritual gifts. Executive Pastor James Wilson will be our guest speaker. If you plan to attend\, please rsvp via the form below.\n\n[gravityforms id=101 title=”false” description=”false” /]
URL:https://newprospectbaptist.org/event/spiritual-gifts-purpose-passion/
LOCATION:New Prospect Baptist Church\, 1580 Summit Road\, Cincinnati\, OH\, 45237\, United States
CATEGORIES:Women
END:VEVENT
BEGIN:VEVENT
DTSTART;TZID=UTC:20220501T123000
DTEND;TZID=UTC:20220501T150000
DTSTAMP:20260423T222612
CREATED:20220418T030656Z
LAST-MODIFIED:20220418T030656Z
UID:31498-1651408200-1651417200@newprospectbaptist.org
SUMMARY:W.O.W. Mother's Day Big Hat Celebration
DESCRIPTION:Finding Joy in the Rooms of a Mother’s Heart\nThe Women of Worth Women’s Ministry present their Mother’s Day Big Hat Celebration. Sunday\, May 1\, 2022 after the 11am Worship Service.  Complete the form below to register today.  Seating is limited.  You will receive your ticket via email prior to the event date.  \n[gravityforms id=”85″ title=”false”/]\n\n 
URL:https://newprospectbaptist.org/event/mothersday2022/
LOCATION:New Prospect Baptist Church\, 1580 Summit Road\, Cincinnati\, OH\, 45237\, United States
CATEGORIES:Women
END:VEVENT
BEGIN:VEVENT
DTSTART;TZID=UTC:20220402T140000
DTEND;TZID=UTC:20220402T160000
DTSTAMP:20260423T222612
CREATED:20210922T022214Z
LAST-MODIFIED:20220401T041032Z
UID:30922-1648908000-1648915200@newprospectbaptist.org
SUMMARY:W.O.W. Planning Meeting
DESCRIPTION:Ladies\, this Saturday\, April 2nd the Women Of Worth Women’s Ministry of New Prospect will hold their monthly planning meeting. \nJoin us at 2 p.m. via Zoom to plan for our upcoming programs and events. Zoom Link http://bit.ly/2L6Tngy or by phone Call (312) 626-6799\, Meeting ID: 876-4348-4903\, Passcode: 818625
URL:https://newprospectbaptist.org/event/w-o-w-planning-meeting/
LOCATION:Zoom (Virtual)
CATEGORIES:Women
END:VEVENT
BEGIN:VEVENT
DTSTART;TZID=UTC:20220129T110000
DTEND;TZID=UTC:20220129T140000
DTSTAMP:20260423T222612
CREATED:20220116T234222Z
LAST-MODIFIED:20220124T175316Z
UID:31268-1643454000-1643464800@newprospectbaptist.org
SUMMARY:WOW Vision Board Virtual Party
DESCRIPTION:The Women of Worth (W.O.W.) Women Ministry’s Virtual Vision Board Party is scheduled this Saturday\, January 29th\, 11 a.m. – 2 p.m. \nTo join by Zoom\, click here to join by web\, or by phone at (646) 558-8656\, Meeting ID: 876-4348-4903\, Passcode: 818625 \nMaterials you will need:\nPoster Board\, Scissors\, Glue\, Tape\, Markers\, Stickers\, Inspiring Quotes\, Pictures from magazines or printed from a computer\, Alphabet letters and anything else that you would like to put on your board. \nAll women and girls are welcome to join. Invite your friends\, co-workers\, daughters and nieces to attend. Call the church office at (513) 721-2355 if you have any questions.
URL:https://newprospectbaptist.org/event/wow-vision-board-virtual-party/
LOCATION:Virtual\, Cincinnati\, OH\, United States
CATEGORIES:Women
END:VEVENT
BEGIN:VEVENT
DTSTART;TZID=UTC:20211218T120000
DTEND;TZID=UTC:20211218T140000
DTSTAMP:20260423T222612
CREATED:20211218T030306Z
LAST-MODIFIED:20211218T030306Z
UID:31188-1639828800-1639836000@newprospectbaptist.org
SUMMARY:W.O.W. Virtual Holiday Brunch 2021
DESCRIPTION:The “Women of Worth” at New Prospect Baptist Church of Cincinnati\,Ohio are back with their Annual Women of Worth Holiday Brunch. Ladies\, young women\, and girls are ALL invited to join them this Saturday\, December 18th from 12pm-2pm VIRTUALLY!!! \nThey will Fellowship and have Christmas Trivia\, Ugly Sweater Contest\, Scavenger Hunt and To Register for BINGO go here \nClick here to join via ZOOM or by phone (646) 558-8656\, Meeting ID: 876-4348-4903\, Passcode: 818625
URL:https://newprospectbaptist.org/event/w-o-w-virtual-holiday-brunch-2021/
LOCATION:Zoom (Virtual)
CATEGORIES:Women
END:VEVENT
BEGIN:VEVENT
DTSTART;TZID=UTC:20210626T110000
DTEND;TZID=UTC:20210626T130000
DTSTAMP:20260423T222612
CREATED:20210502T200828Z
LAST-MODIFIED:20210619T165323Z
UID:30624-1624705200-1624712400@newprospectbaptist.org
SUMMARY:W.O.W. Virtual Book Club Spring 2021
DESCRIPTION:New Prospect’s Women of Worth (W.O.W.) Women’s Ministry will be discussing Traci Wooden Carlisle’s My Beauty For Your Ashes. You can join the zoom meeting by clicking here or by calling 312-626-6799 (meeting id: 876-434-84903#\, password: 818625).
URL:https://newprospectbaptist.org/event/w-o-w-virtual-book-club-spring-2021/
LOCATION:Zoom (Virtual)
CATEGORIES:Women
END:VEVENT
BEGIN:VEVENT
DTSTART;TZID=UTC:20210327T110000
DTEND;TZID=UTC:20210327T130000
DTSTAMP:20260423T222612
CREATED:20210323T002450Z
LAST-MODIFIED:20210323T002450Z
UID:30498-1616842800-1616850000@newprospectbaptist.org
SUMMARY:SHINE: Then & Now
DESCRIPTION:Girls of all ages & Women join us as we celebrate Women’s History Month. The Women of Worth at New Prospect present “SHINE\, Then & Now” A Virtual Event Featuring Speakers: Georgia Brown\, Bessie Pitts & Diana Bailey. We look forward to hearing Herstory!!! This Saturday\, March 27th from 11 a.m. – 1 p.m. \nJoin via Zoom Video http://bit.ly/2L6Tngy\nor by phone Call (312) 626-6799\, Meeting ID: 876-4348-4903\, Passcode: 818625
URL:https://newprospectbaptist.org/event/shine-then-now/
LOCATION:Zoom (Virtual)
CATEGORIES:Women
END:VEVENT
BEGIN:VEVENT
DTSTART;TZID=UTC:20210226T190000
DTEND;TZID=UTC:20210226T203000
DTSTAMP:20260423T222612
CREATED:20210221T010440Z
LAST-MODIFIED:20210221T010440Z
UID:30461-1614366000-1614371400@newprospectbaptist.org
SUMMARY:Girl's Night In
DESCRIPTION:Ladies\, The Women of Worth invite you to join them for their “Girl’s Night In\, Sister Love Event” on Friday\, February 26th\, 7 p.m. – 8:30 p.m. \nJoin via Zoom Video (click here)\, or by phone Call (312) 626-6799. \nMeeting ID: 876-4348-4903\, Passcode: 818625
URL:https://newprospectbaptist.org/event/girls-night-in/
LOCATION:Zoom (Virtual)
CATEGORIES:Women
END:VEVENT
BEGIN:VEVENT
DTSTART;TZID=UTC:20210130T120000
DTEND;TZID=UTC:20210130T140000
DTSTAMP:20260423T222612
CREATED:20210123T173038Z
LAST-MODIFIED:20210123T181834Z
UID:30402-1612008000-1612015200@newprospectbaptist.org
SUMMARY:W.O.W. Virtual Vision Board Party
DESCRIPTION:Calling All Women & Girls!!!\nIt’s a new year and we are looking forward to growing with you all this year!!! It’s time for the New Prospect Baptist’s Women of Worth Ministry’s Virtual Vision Board Party\, Saturday\, January 30th from 12 p.m. – 2 p.m. \nInvite a few ladies to join you at your house as we get these boards in order for this year’s vision you have for yourself. There will be some singing\, a guest speaker\, and much more! \nWe have supplies available at the church for you to pick up Saturday\, January 23rd\, 1 p.m. – 3 p.m.\, Monday – Friday (Jan. 25th – 29th) 11 a.m. – 5 p.m.\, or by appointment. \nYou can also purchase supplies on Amazon\, at Michael’s\, Hobby Lobby or the Dollar Tree if you don’t want to make the trek to the church. \nSupplies you may need for the event:\nPoster Board\, Magazines\, Pens\, Markers\, Glue\, Tape\, Scissors\, Stickers\, Printed Pictures or whatever you might want to put on your board. \nJoin the event via Zoom Link (click here) or\nBy Phone Dial (646) 558-8656\, Then enter Meeting ID: 856 2149 5306 and Passcode: 529187
URL:https://newprospectbaptist.org/event/w-o-w-virtual-vision-board-party/
LOCATION:Zoom (Virtual)
CATEGORIES:Women
END:VEVENT
BEGIN:VEVENT
DTSTART;TZID=UTC:20201121T110000
DTEND;TZID=UTC:20201121T130000
DTSTAMP:20260423T222612
CREATED:20200110T011455Z
LAST-MODIFIED:20201112T034230Z
UID:29526-1605956400-1605963600@newprospectbaptist.org
SUMMARY:Women of the Bible
DESCRIPTION:NPBC’s Women’s Ministry\, W.O.W. (WOMEN OF WORTH)\, invite you on Saturday\, November 21st at 11 a.m. to see the stories of women from the Bible come alive! This will be an interactive and engaging experience that you will not want to miss. Share with your friends and family. To watch online\, click here to watch on Zoom\, or call by phone (dial 312-626-6799\, meeting id 951-2612-3122#\, password 468168).
URL:https://newprospectbaptist.org/event/women-of-the-bible/
LOCATION:OH
CATEGORIES:Church Events,Women
END:VEVENT
BEGIN:VEVENT
DTSTART;TZID=UTC:20201120T190000
DTEND;TZID=UTC:20201120T210000
DTSTAMP:20260423T222612
CREATED:20200224T012549Z
LAST-MODIFIED:20201025T030313Z
UID:29619-1605898800-1605906000@newprospectbaptist.org
SUMMARY:Dada Rafiki
DESCRIPTION:Sister Annie Ruth will be hosting her annual Dada Rafiki event\, virtually\, on Friday\, November 20th\, at 7 p.m. The event will be streamed on Facebook\, YouTube and Instagram. One of the honorees will be New Prospect’s Kitchen Ministry! For more information click here
URL:https://newprospectbaptist.org/event/dada-rafiki/
LOCATION:OH
CATEGORIES:Community Relations,Women
END:VEVENT
BEGIN:VEVENT
DTSTART;TZID=UTC:20201017T110000
DTEND;TZID=UTC:20201017T130000
DTSTAMP:20260423T222612
CREATED:20200929T003243Z
LAST-MODIFIED:20200929T003337Z
UID:30146-1602932400-1602939600@newprospectbaptist.org
SUMMARY:Virtual Book Club - The Remix
DESCRIPTION:Ladies!!!  If you missed our Summer Book Club Meetings\, the New Prospect Women’s Ministry will host a W.O.W. Virtual Book Club – The Remix.  Discussing common themes in both books that were read this Summer: Sunday Brunch by Norma L. Jarrett (click here to purchase)\, and Through Blind Eyes by Christine Mayo & Bobbie Michelle Bean (click here to purchase).  You have time to purchase and read the book before the book club on Saturday\, October 17th.  To join by Zoom Video\, click here\, or dial 312-626-6799 with meeting id 951-2612-3122#.
URL:https://newprospectbaptist.org/event/virtual-book-club-the-remix/
LOCATION:OH
CATEGORIES:Women
END:VEVENT
BEGIN:VEVENT
DTSTART;TZID=UTC:20200828T190000
DTEND;TZID=UTC:20200828T210000
DTSTAMP:20260423T222612
CREATED:20200804T033815Z
LAST-MODIFIED:20200804T033815Z
UID:30047-1598641200-1598648400@newprospectbaptist.org
SUMMARY:Ladies Virtual Paint Night
DESCRIPTION:New Prospect’s Women of Worth (W.O.W.) Women’s Ministry will be hosting a Virtual Paint Night on Friday\, August 28th\, 7 p.m. – 9 p.m. For more information\, call the church office at 513-721-2355.
URL:https://newprospectbaptist.org/event/ladies-virtual-paint-night/
LOCATION:OH
CATEGORIES:Women
END:VEVENT
BEGIN:VEVENT
DTSTART;TZID=UTC:20200530T110000
DTEND;TZID=UTC:20200530T130000
DTSTAMP:20260423T222612
CREATED:20200426T205929Z
LAST-MODIFIED:20200426T213335Z
UID:29832-1590836400-1590843600@newprospectbaptist.org
SUMMARY:Virtual Book Club
DESCRIPTION:W.O.W. (New Prospect’s Women of Worth Women’s Ministry) will host their Virtual Book Club on Saturday\, May 30th at 11 a.m. The book\, titled A Sunday Brunch\, by Norma L. Jarrett can be found here on Amazon.\n\nJoin us via Zoom video by clicking here. You may also join us by phone (dial 312-626-6799 meeting id – 951-2612-3122#).
URL:https://newprospectbaptist.org/event/virtual-book-club/
LOCATION:OH
CATEGORIES:Women
END:VEVENT
BEGIN:VEVENT
DTSTART;TZID=UTC:20200509T110000
DTEND;TZID=UTC:20200509T130000
DTSTAMP:20260423T222612
CREATED:20200419T022755Z
LAST-MODIFIED:20200507T004529Z
UID:29815-1589022000-1589029200@newprospectbaptist.org
SUMMARY:A Virtual Chat...Coffee & Conversation
DESCRIPTION:New Prospect’s Women of Worth present…\n\nA Virtual Chat…Coffee & Conversation next Saturday\, May 9th at 11 a.m.\n(The Spring Book Club date has been moved to May 30th)\n\nLadies wear your bonnet or headscarf (cause we know you ain’t got your hair done in a while)\nand stay in your pajamas\, while we sip some coffee or tea as we chat about our highs\, lows and coping with the “New Normal”.\n\nYou can join us the day of the event via Zoom by clicking here or by phone\, Dial (312) 626-6799\, Meeting ID – 951-2612-3122#
URL:https://newprospectbaptist.org/event/coffee-coping-conversation/
LOCATION:OH
CATEGORIES:Women
END:VEVENT
BEGIN:VEVENT
DTSTART;TZID=America/New_York:20200321T110000
DTEND;TZID=America/New_York:20200321T150000
DTSTAMP:20260423T222612
CREATED:20200305T201230Z
LAST-MODIFIED:20200314T223850Z
UID:29656-1584788400-1584802800@newprospectbaptist.org
SUMMARY:WOW Empowerment Day 2020
DESCRIPTION:We hope all is well with you and your families.  Due to the Coronavirus pandemic the country is facing\, we have decided to postpone next Saturday’s event.\nWe hope that you will be able to participate in the event once we’ve settled on a new date.
URL:https://newprospectbaptist.org/event/wow-empowerment-day-2020/
LOCATION:New Prospect Baptist Church\, 1580 Summit Road\, Cincinnati\, OH\, 45237\, United States
CATEGORIES:Women
END:VEVENT
BEGIN:VEVENT
DTSTART;TZID=UTC:20200125T110000
DTEND;TZID=UTC:20200125T140000
DTSTAMP:20260423T222612
CREATED:20200113T013249Z
LAST-MODIFIED:20200114T175647Z
UID:29545-1579950000-1579960800@newprospectbaptist.org
SUMMARY:W.O.W. Vision Board Party
DESCRIPTION:New Prospect’s Women of Worth (W.O.W.) Women’s Ministry invites you to their Vision Board Party on Saturday\, January 25th at 11 a.m.\n\n[gravityforms id=”42″]\n\nThe following donations will be accepted for this event through Friday\, January 17th:\n\n 	Glue sticks\n 	Construction paper\n 	Stickers\n 	Arts & Crafts\n 	Sharpies\n 	Monetary\n\nDonations can be dropped off to Sister Myki Bobo during church office hours.
URL:https://newprospectbaptist.org/event/w-o-w-vision-board-party/
LOCATION:New Prospect Baptist Church\, 1580 Summit Road\, Cincinnati\, OH\, 45237\, United States
CATEGORIES:Women
END:VEVENT
BEGIN:VEVENT
DTSTART;TZID=UTC:20191207T110000
DTEND;TZID=UTC:20191207T140000
DTSTAMP:20260423T222612
CREATED:20191123T235601Z
LAST-MODIFIED:20191207T154034Z
UID:29411-1575716400-1575727200@newprospectbaptist.org
SUMMARY:W.O.W. Holiday Brunch
DESCRIPTION:New Prospect’s Women of Worth (W.O.W.) Holiday Brunch will be held on Saturday\, December 7th\, 11 a.m. – 2 p.m. Come rocking your ugly sweater\, participate in the gift wrapping contest\, and enjoy the food/fellowship.
URL:https://newprospectbaptist.org/event/w-o-w-holiday-brunch/
LOCATION:New Prospect Baptist Church\, 1580 Summit Road\, Cincinnati\, OH\, 45237\, United States
CATEGORIES:Women
END:VEVENT
BEGIN:VEVENT
DTSTART;TZID=UTC:20191115T180000
DTEND;TZID=UTC:20191115T200000
DTSTAMP:20260423T222612
CREATED:20190921T223548Z
LAST-MODIFIED:20191030T232941Z
UID:29344-1573840800-1573848000@newprospectbaptist.org
SUMMARY:Women of the Bible Series
DESCRIPTION:NPBC’s Women’s Ministry\, W.O.W. (Women of Worth)\, invite you to see the stories of women from the Bible come alive! This will be an interactive and engaging experience that you will not want to miss. Share with your friends and family. This event is open to the public.
URL:https://newprospectbaptist.org/event/women-of-the-bible-series/
LOCATION:New Prospect Baptist Church\, 1580 Summit Road\, Cincinnati\, OH\, 45237\, United States
CATEGORIES:Church Events,Women
END:VEVENT
BEGIN:VEVENT
DTSTART;TZID=UTC:20191102T130000
DTEND;TZID=UTC:20191102T150000
DTSTAMP:20260423T222612
CREATED:20190908T023606Z
LAST-MODIFIED:20191028T042546Z
UID:29319-1572699600-1572706800@newprospectbaptist.org
SUMMARY:Women's Ministry Planning Meeting
DESCRIPTION:The Women of Worth (W.O.W.) Women’s Ministry is holding a planning meeting on Saturday\, November 2nd at 1 p.m. Topic of discussion will be the Women’s 2019 Holiday event.
URL:https://newprospectbaptist.org/event/womens-ministry-planning-meeting/
LOCATION:New Prospect Baptist Church\, 1580 Summit Road\, Cincinnati\, OH\, 45237\, United States
CATEGORIES:Women
END:VEVENT
BEGIN:VEVENT
DTSTART;TZID=UTC:20190824T140000
DTEND;TZID=UTC:20190824T160000
DTSTAMP:20260423T222612
CREATED:20190715T003001Z
LAST-MODIFIED:20190715T003001Z
UID:29252-1566655200-1566662400@newprospectbaptist.org
SUMMARY:Color Me Beautiful Tea Party
DESCRIPTION:The “Color Me Beautiful” Tea Party honoring First Lady Sister Regina Lynch will be held on Saturday\, August 24th at 2 p.m.  Tickets are available for $20 in the Church lobby during Sundays or in the Church Office during the week.  Call 513-721-2355 for more details.
URL:https://newprospectbaptist.org/event/color-me-beautiful-tea-party/
LOCATION:New Prospect Baptist Church\, 1580 Summit Road\, Cincinnati\, OH\, 45237\, United States
CATEGORIES:Women
END:VEVENT
BEGIN:VEVENT
DTSTART;TZID=UTC:20190504T120000
DTEND;TZID=UTC:20190504T150000
DTSTAMP:20260423T222612
CREATED:20190331T004247Z
LAST-MODIFIED:20190423T194741Z
UID:28902-1556971200-1556982000@newprospectbaptist.org
SUMMARY:W.O.W. Mother's Day Brunch - Pink\, Pearls\, & Pumps
DESCRIPTION:This Event is SOLD OUT.
URL:https://newprospectbaptist.org/event/2019mothersdaybrunch/
LOCATION:New Prospect Baptist Church\, 1580 Summit Road\, Cincinnati\, OH\, 45237\, United States
CATEGORIES:Women
END:VEVENT
END:VCALENDAR